BEGIN:VCALENDAR
VERSION:2.0
PRODID:-//Blacks Real Estate/EPL//NONSGML v1.0//EN
METHOD:PUBLISH
BEGIN:VEVENT
DTSTART:20200227T164500
DTEND:20200227T170000
LOCATION:2B Hume Street WEST MACKAY, QLD 4740
URL:https://blacksrealestate.com.au/rental/2b-hume-street-west-mackay-qld-4740/
TRANSP:OPAQUE
SEQUENCE:0
UID:307471583127387
DTSTAMP:20200301T193627Z
SUMMARY:Open Home - Family Home with Sheds - City Location
DESCRIPTION:Family home with sheds situated in the heart of West Mackay and a stone's throw from Mackay's CBD.\n- 4 bedroom home with multiple indoor and outdoor living\n- Large bathroom\, built in robes and partially air conditioned\n- Renovated kitchen with island bench & dishwasher\, overlooking large fenced yard\n- Large 8m x 7m shed with power and mezzanine adjacent to house\n- 12m x 7m four car carport\n- Perfect for the large family\n*Please note this property will be rented unfurnished*\nDisclaimer: The Agent does not give any warranty as to errors or omissions\, if any\, in these particulars\, the provided information can be deemed reliable but not accurate. Any persons interested in the property should conduct their own research.
PRIORITY:1
CLASS:PUBLIC
BEGIN:VALARM
TRIGGER:-PT10080M
ACTION:DISPLAY
DESCRIPTION:Reminder
END:VALARM
END:VEVENT
END:VCALENDAR
